BEGIN:VCALENDAR
VERSION:2.0
PRODID:-//Landfrauenverein Wathlingen - ECPv6.15.17.1//NONSGML v1.0//EN
CALSCALE:GREGORIAN
METHOD:PUBLISH
X-WR-CALNAME:Landfrauenverein Wathlingen
X-ORIGINAL-URL:http://www.landfrauenverein-wathlingen.de
X-WR-CALDESC:Veranstaltungen für Landfrauenverein Wathlingen
REFRESH-INTERVAL;VALUE=DURATION:PT1H
X-Robots-Tag:noindex
X-PUBLISHED-TTL:PT1H
BEGIN:VTIMEZONE
TZID:Europe/Berlin
BEGIN:DAYLIGHT
TZOFFSETFROM:+0100
TZOFFSETTO:+0200
TZNAME:CEST
DTSTART:20240331T010000
END:DAYLIGHT
BEGIN:STANDARD
TZOFFSETFROM:+0200
TZOFFSETTO:+0100
TZNAME:CET
DTSTART:20241027T010000
END:STANDARD
BEGIN:DAYLIGHT
TZOFFSETFROM:+0100
TZOFFSETTO:+0200
TZNAME:CEST
DTSTART:20250330T010000
END:DAYLIGHT
BEGIN:STANDARD
TZOFFSETFROM:+0200
TZOFFSETTO:+0100
TZNAME:CET
DTSTART:20251026T010000
END:STANDARD
BEGIN:DAYLIGHT
TZOFFSETFROM:+0100
TZOFFSETTO:+0200
TZNAME:CEST
DTSTART:20260329T010000
END:DAYLIGHT
BEGIN:STANDARD
TZOFFSETFROM:+0200
TZOFFSETTO:+0100
TZNAME:CET
DTSTART:20261025T010000
END:STANDARD
END:VTIMEZONE
BEGIN:VEVENT
DTSTART;TZID=Europe/Berlin:20250301T140000
DTEND;TZID=Europe/Berlin:20250301T180000
DTSTAMP:20260420T093722
CREATED:20241031T163543Z
LAST-MODIFIED:20241031T163543Z
UID:2631-1740837600-1740852000@www.landfrauenverein-wathlingen.de
SUMMARY:Weideflechten mit Ille Cammann
DESCRIPTION:Anmeldungen bei Ille / Tel. 05144-8477
URL:http://www.landfrauenverein-wathlingen.de/event/weideflechten-mit-ille-cammann/
END:VEVENT
BEGIN:VEVENT
DTSTART;TZID=Europe/Berlin:20250313T180000
DTEND;TZID=Europe/Berlin:20250313T210000
DTSTAMP:20260420T093722
CREATED:20241101T180210Z
LAST-MODIFIED:20241101T180938Z
UID:2648-1741888800-1741899600@www.landfrauenverein-wathlingen.de
SUMMARY:Gartenfreundinnen
DESCRIPTION:Ansprechpartnerin: Renate Brandt / 05144-4319
URL:http://www.landfrauenverein-wathlingen.de/event/gartenfreundinnen-7/
LOCATION:4G-Park\, Kantallee 8\, Wathlingen\, 29339\, Deutschland
END:VEVENT
BEGIN:VEVENT
DTSTART;TZID=Europe/Berlin:20250315T150000
DTEND;TZID=Europe/Berlin:20250315T200000
DTSTAMP:20260420T093722
CREATED:20241031T123246Z
LAST-MODIFIED:20241031T123246Z
UID:2615-1742050800-1742068800@www.landfrauenverein-wathlingen.de
SUMMARY:75 Jahre Landfrauenverein Wathlingen
DESCRIPTION:
URL:http://www.landfrauenverein-wathlingen.de/event/75-jahre-landfrauenverein-wathlingen/
LOCATION:4G-Park\, Kantallee 8\, Wathlingen\, 29339\, Deutschland
END:VEVENT
BEGIN:VEVENT
DTSTART;TZID=Europe/Berlin:20250319T160000
DTEND;TZID=Europe/Berlin:20250319T190000
DTSTAMP:20260420T093722
CREATED:20241101T184357Z
LAST-MODIFIED:20241101T184357Z
UID:2672-1742400000-1742410800@www.landfrauenverein-wathlingen.de
SUMMARY:Kreativ Gruppe
DESCRIPTION:Ansprechpartnerin: Brigitte Vogel / 05144-5489
URL:http://www.landfrauenverein-wathlingen.de/event/kreativ-gruppe-12/
LOCATION:4G-Park\, Kantallee 8\, Wathlingen\, 29339\, Deutschland
CATEGORIES:Kreativkurse
END:VEVENT
BEGIN:VEVENT
DTSTART;TZID=Europe/Berlin:20250320T190000
DTEND;TZID=Europe/Berlin:20250320T220000
DTSTAMP:20260420T093722
CREATED:20241101T185721Z
LAST-MODIFIED:20241101T185721Z
UID:2689-1742497200-1742508000@www.landfrauenverein-wathlingen.de
SUMMARY:LandfrauenKino
DESCRIPTION:Ansprechpartnerin: Klaudia Piliptschuk / 05144-8358
URL:http://www.landfrauenverein-wathlingen.de/event/landfrauenkino-42/
LOCATION:4G-Park\, Kantallee 8\, Wathlingen\, 29339\, Deutschland
END:VEVENT
BEGIN:VEVENT
DTSTART;TZID=Europe/Berlin:20250327T150000
DTEND;TZID=Europe/Berlin:20250327T180000
DTSTAMP:20260420T093722
CREATED:20241101T190618Z
LAST-MODIFIED:20241101T190618Z
UID:2708-1743087600-1743098400@www.landfrauenverein-wathlingen.de
SUMMARY:Spiele Nachmittag
DESCRIPTION:Ansprechpartnerin: Rita Mund / 05144-8576
URL:http://www.landfrauenverein-wathlingen.de/event/spiele-nachmittag-8/
LOCATION:4G-Park\, Kantallee 8\, Wathlingen\, 29339\, Deutschland
CATEGORIES:Spiele
END:VEVENT
END:VCALENDAR