BEGIN:VCALENDAR
VERSION:2.0
PRODID:-//Landfrauenverein Wathlingen - ECPv6.15.17.1//NONSGML v1.0//EN
CALSCALE:GREGORIAN
METHOD:PUBLISH
X-WR-CALNAME:Landfrauenverein Wathlingen
X-ORIGINAL-URL:http://www.landfrauenverein-wathlingen.de
X-WR-CALDESC:Veranstaltungen für Landfrauenverein Wathlingen
REFRESH-INTERVAL;VALUE=DURATION:PT1H
X-Robots-Tag:noindex
X-PUBLISHED-TTL:PT1H
BEGIN:VTIMEZONE
TZID:Europe/Berlin
BEGIN:DAYLIGHT
TZOFFSETFROM:+0100
TZOFFSETTO:+0200
TZNAME:CEST
DTSTART:20240331T010000
END:DAYLIGHT
BEGIN:STANDARD
TZOFFSETFROM:+0200
TZOFFSETTO:+0100
TZNAME:CET
DTSTART:20241027T010000
END:STANDARD
BEGIN:DAYLIGHT
TZOFFSETFROM:+0100
TZOFFSETTO:+0200
TZNAME:CEST
DTSTART:20250330T010000
END:DAYLIGHT
BEGIN:STANDARD
TZOFFSETFROM:+0200
TZOFFSETTO:+0100
TZNAME:CET
DTSTART:20251026T010000
END:STANDARD
BEGIN:DAYLIGHT
TZOFFSETFROM:+0100
TZOFFSETTO:+0200
TZNAME:CEST
DTSTART:20260329T010000
END:DAYLIGHT
BEGIN:STANDARD
TZOFFSETFROM:+0200
TZOFFSETTO:+0100
TZNAME:CET
DTSTART:20261025T010000
END:STANDARD
END:VTIMEZONE
BEGIN:VEVENT
DTSTART;TZID=Europe/Berlin:20250409T160000
DTEND;TZID=Europe/Berlin:20250409T190000
DTSTAMP:20260420T081052
CREATED:20241101T184459Z
LAST-MODIFIED:20241101T184459Z
UID:2674-1744214400-1744225200@www.landfrauenverein-wathlingen.de
SUMMARY:Kreativ Gruppe
DESCRIPTION:Ansprechpartnerin: Brigitte Vogel / 05144-5489
URL:http://www.landfrauenverein-wathlingen.de/event/kreativ-gruppe-13/
LOCATION:4G-Park\, Kantallee 8\, Wathlingen\, 29339\, Deutschland
CATEGORIES:Kreativkurse
END:VEVENT
BEGIN:VEVENT
DTSTART;TZID=Europe/Berlin:20250410T180000
DTEND;TZID=Europe/Berlin:20250410T210000
DTSTAMP:20260420T081052
CREATED:20241101T180317Z
LAST-MODIFIED:20241101T181017Z
UID:2650-1744308000-1744318800@www.landfrauenverein-wathlingen.de
SUMMARY:Gartenfreundinnen
DESCRIPTION:Ansprechpartnerin: Renate Brandt / 05144-4319
URL:http://www.landfrauenverein-wathlingen.de/event/gartenfreundinnen-8/
LOCATION:4G-Park\, Kantallee 8\, Wathlingen\, 29339\, Deutschland
END:VEVENT
BEGIN:VEVENT
DTSTART;TZID=Europe/Berlin:20250417T190000
DTEND;TZID=Europe/Berlin:20250417T220000
DTSTAMP:20260420T081052
CREATED:20241101T185818Z
LAST-MODIFIED:20241101T185818Z
UID:2691-1744916400-1744927200@www.landfrauenverein-wathlingen.de
SUMMARY:LandfrauenKino
DESCRIPTION:Ansprechpartnerin: Klaudia Piliptschuk / 05144-8358
URL:http://www.landfrauenverein-wathlingen.de/event/landfrauenkino-43/
LOCATION:4G-Park\, Kantallee 8\, Wathlingen\, 29339\, Deutschland
END:VEVENT
BEGIN:VEVENT
DTSTART;TZID=Europe/Berlin:20250423T183000
DTEND;TZID=Europe/Berlin:20250423T220000
DTSTAMP:20260420T081052
CREATED:20241031T123552Z
LAST-MODIFIED:20241031T123552Z
UID:2617-1745433000-1745445600@www.landfrauenverein-wathlingen.de
SUMMARY:Jahreshauptversammlung
DESCRIPTION:Referentin: Frau Schnoor / Sozialstation Wathlingen _Flotwedel \n  \nThema: Rund um die Pflege
URL:http://www.landfrauenverein-wathlingen.de/event/jahreshauptversammlung/
LOCATION:Jahnstuben Nienhagen\, Jahnring 13\, Nienhagen\, 29336\, Deutschland
END:VEVENT
BEGIN:VEVENT
DTSTART;TZID=Europe/Berlin:20250424T150000
DTEND;TZID=Europe/Berlin:20250424T180000
DTSTAMP:20260420T081052
CREATED:20241101T190735Z
LAST-MODIFIED:20241101T190735Z
UID:2710-1745506800-1745517600@www.landfrauenverein-wathlingen.de
SUMMARY:Spiele Nachmittag
DESCRIPTION:Ansprechpartnerin: Rita Mund / 05144-8576
URL:http://www.landfrauenverein-wathlingen.de/event/spiele-nachmittag-9/
LOCATION:4G-Park\, Kantallee 8\, Wathlingen\, 29339\, Deutschland
CATEGORIES:Spiele
END:VEVENT
END:VCALENDAR