BEGIN:VCALENDAR
VERSION:2.0
PRODID:-//Landfrauenverein Wathlingen - ECPv6.15.17.1//NONSGML v1.0//EN
CALSCALE:GREGORIAN
METHOD:PUBLISH
X-ORIGINAL-URL:http://www.landfrauenverein-wathlingen.de
X-WR-CALDESC:Veranstaltungen für Landfrauenverein Wathlingen
REFRESH-INTERVAL;VALUE=DURATION:PT1H
X-Robots-Tag:noindex
X-PUBLISHED-TTL:PT1H
BEGIN:VTIMEZONE
TZID:Europe/Berlin
BEGIN:DAYLIGHT
TZOFFSETFROM:+0100
TZOFFSETTO:+0200
TZNAME:CEST
DTSTART:20240331T010000
END:DAYLIGHT
BEGIN:STANDARD
TZOFFSETFROM:+0200
TZOFFSETTO:+0100
TZNAME:CET
DTSTART:20241027T010000
END:STANDARD
BEGIN:DAYLIGHT
TZOFFSETFROM:+0100
TZOFFSETTO:+0200
TZNAME:CEST
DTSTART:20250330T010000
END:DAYLIGHT
BEGIN:STANDARD
TZOFFSETFROM:+0200
TZOFFSETTO:+0100
TZNAME:CET
DTSTART:20251026T010000
END:STANDARD
BEGIN:DAYLIGHT
TZOFFSETFROM:+0100
TZOFFSETTO:+0200
TZNAME:CEST
DTSTART:20260329T010000
END:DAYLIGHT
BEGIN:STANDARD
TZOFFSETFROM:+0200
TZOFFSETTO:+0100
TZNAME:CET
DTSTART:20261025T010000
END:STANDARD
END:VTIMEZONE
BEGIN:VEVENT
DTSTART;TZID=Europe/Berlin:20250710T190000
DTEND;TZID=Europe/Berlin:20250710T220000
DTSTAMP:20260420T033934
CREATED:20250612T200432Z
LAST-MODIFIED:20250616T103025Z
UID:2864-1752174000-1752184800@www.landfrauenverein-wathlingen.de
SUMMARY:LandFrauen - Sommerkino 2025
DESCRIPTION:Wir zeigen unseren Sommerfilm im kleinen Kino im 4G. Wie immer mit Essen. Wir starten um 19.00 Uhr. Wir freuen uns auf euch Kinofreunde\, egal\, ob ihr Mitglieder im Verein seid\, oder Gäste. Aber wir brauchen eine Anmeldung – bitte bis zum 7.7.  Klaudia – 05144 8358\, oder Renate – 05144 92482\, oder Lucienne 015162620365
URL:http://www.landfrauenverein-wathlingen.de/event/sommerkino-2025/
LOCATION:4G-Park\, Kantallee 8\, Wathlingen\, 29339\, Deutschland
END:VEVENT
END:VCALENDAR