BEGIN:VCALENDAR
VERSION:2.0
PRODID:-//Landfrauenverein Wathlingen - ECPv6.15.17.1//NONSGML v1.0//EN
CALSCALE:GREGORIAN
METHOD:PUBLISH
X-WR-CALNAME:Landfrauenverein Wathlingen
X-ORIGINAL-URL:http://www.landfrauenverein-wathlingen.de
X-WR-CALDESC:Veranstaltungen für Landfrauenverein Wathlingen
REFRESH-INTERVAL;VALUE=DURATION:PT1H
X-Robots-Tag:noindex
X-PUBLISHED-TTL:PT1H
BEGIN:VTIMEZONE
TZID:Europe/Berlin
BEGIN:DAYLIGHT
TZOFFSETFROM:+0100
TZOFFSETTO:+0200
TZNAME:CEST
DTSTART:20240331T010000
END:DAYLIGHT
BEGIN:STANDARD
TZOFFSETFROM:+0200
TZOFFSETTO:+0100
TZNAME:CET
DTSTART:20241027T010000
END:STANDARD
BEGIN:DAYLIGHT
TZOFFSETFROM:+0100
TZOFFSETTO:+0200
TZNAME:CEST
DTSTART:20250330T010000
END:DAYLIGHT
BEGIN:STANDARD
TZOFFSETFROM:+0200
TZOFFSETTO:+0100
TZNAME:CET
DTSTART:20251026T010000
END:STANDARD
BEGIN:DAYLIGHT
TZOFFSETFROM:+0100
TZOFFSETTO:+0200
TZNAME:CEST
DTSTART:20260329T010000
END:DAYLIGHT
BEGIN:STANDARD
TZOFFSETFROM:+0200
TZOFFSETTO:+0100
TZNAME:CET
DTSTART:20261025T010000
END:STANDARD
END:VTIMEZONE
BEGIN:VEVENT
DTSTART;VALUE=DATE:20250802
DTEND;VALUE=DATE:20250803
DTSTAMP:20260420T021259
CREATED:20250517T082107Z
LAST-MODIFIED:20250715T183406Z
UID:2826-1754092800-1754179199@www.landfrauenverein-wathlingen.de
SUMMARY:Bad Gandersheimer Domfestspiele
DESCRIPTION:mit „Cabarett“ (75\,- Euro) \nWer angemeldet ist\, um nach Bad Gandersheim zu fahren\, wird gebeten die Fahrtkosten bei  Evi Schumacher zu bezahlen. \nHier die Abfahrtszeiten für unsere Fahrt zu den Domfestspielen in Bad Gandersheim am 2.8.: \nNienhagen/Klosterhof – 15.30 Uhr \nPapenhorst                      – 15.40 Uhr \nWathlingen/Rossmann- 15.50 Uhr \nWathlingen/Rathaus     – 16.00 Uhr \n 
URL:http://www.landfrauenverein-wathlingen.de/event/bad-gandersheimer-festspiele/
LOCATION:Bad Gandersheim
CATEGORIES:Fahrten
END:VEVENT
BEGIN:VEVENT
DTSTART;VALUE=DATE:20250814
DTEND;VALUE=DATE:20250815
DTSTAMP:20260420T021259
CREATED:20250517T082957Z
LAST-MODIFIED:20250805T162110Z
UID:2829-1755129600-1755215999@www.landfrauenverein-wathlingen.de
SUMMARY:Elbershof Demeterhof / Uelzen
DESCRIPTION:Hier die Abfahrtszeiten für unsere Fahrt zum Elbershof / Uelzen: \n7.30 Uhr  – Nienhagen\, Klosterhof \n7.50 Uhr  – Wathlingen\, Rossmann \n8.00 Uhr  – Wathlingen\, Rathaus \nmit Führung und Mittagessen \n(anschließend Rundgang und Freizeit in Uelzen / 45\,- Euro)
URL:http://www.landfrauenverein-wathlingen.de/event/demeterhof/
LOCATION:Uelzen\, Uelzen
CATEGORIES:Fahrten
END:VEVENT
BEGIN:VEVENT
DTSTART;TZID=Europe/Berlin:20250826T140000
DTEND;TZID=Europe/Berlin:20250826T180000
DTSTAMP:20260420T021259
CREATED:20250730T192509Z
LAST-MODIFIED:20250730T192509Z
UID:2885-1756216800-1756231200@www.landfrauenverein-wathlingen.de
SUMMARY:Traditionelle Radtour „Fahrt ins Blaue“
DESCRIPTION:Treffpunkt Forsthaus Dannhorst/ Papenhorst. \nWir fahren ca. 25 km an diesem Tag. \nAnmeldungen bitte bei \nLucienne – 015162620365  oder  Brigitte     – 05144 5489 \n 
URL:http://www.landfrauenverein-wathlingen.de/event/traditionelle-radtour-fahrt-ins-blaue/
END:VEVENT
END:VCALENDAR