BEGIN:VCALENDAR
VERSION:2.0
PRODID:-//Landfrauenverein Wathlingen - ECPv6.15.17.1//NONSGML v1.0//EN
CALSCALE:GREGORIAN
METHOD:PUBLISH
X-ORIGINAL-URL:http://www.landfrauenverein-wathlingen.de
X-WR-CALDESC:Veranstaltungen für Landfrauenverein Wathlingen
REFRESH-INTERVAL;VALUE=DURATION:PT1H
X-Robots-Tag:noindex
X-PUBLISHED-TTL:PT1H
BEGIN:VTIMEZONE
TZID:Europe/Berlin
BEGIN:DAYLIGHT
TZOFFSETFROM:+0100
TZOFFSETTO:+0200
TZNAME:CEST
DTSTART:20240331T010000
END:DAYLIGHT
BEGIN:STANDARD
TZOFFSETFROM:+0200
TZOFFSETTO:+0100
TZNAME:CET
DTSTART:20241027T010000
END:STANDARD
BEGIN:DAYLIGHT
TZOFFSETFROM:+0100
TZOFFSETTO:+0200
TZNAME:CEST
DTSTART:20250330T010000
END:DAYLIGHT
BEGIN:STANDARD
TZOFFSETFROM:+0200
TZOFFSETTO:+0100
TZNAME:CET
DTSTART:20251026T010000
END:STANDARD
BEGIN:DAYLIGHT
TZOFFSETFROM:+0100
TZOFFSETTO:+0200
TZNAME:CEST
DTSTART:20260329T010000
END:DAYLIGHT
BEGIN:STANDARD
TZOFFSETFROM:+0200
TZOFFSETTO:+0100
TZNAME:CET
DTSTART:20261025T010000
END:STANDARD
END:VTIMEZONE
BEGIN:VEVENT
DTSTART;TZID=Europe/Berlin:20251105T180000
DTEND;TZID=Europe/Berlin:20251105T223000
DTSTAMP:20260419T213155
CREATED:20251116T155131Z
LAST-MODIFIED:20251116T155131Z
UID:2956-1762365600-1762381800@www.landfrauenverein-wathlingen.de
SUMMARY:Grünkohl-Variationen
DESCRIPTION:Annette und Claus Urbanke
URL:http://www.landfrauenverein-wathlingen.de/event/gruenkohl-variationen/
LOCATION:4G-Park\, Kantallee 8\, Wathlingen\, 29339\, Deutschland
END:VEVENT
BEGIN:VEVENT
DTSTART;TZID=Europe/Berlin:20251106T160000
DTEND;TZID=Europe/Berlin:20251106T190000
DTSTAMP:20260419T213155
CREATED:20251116T155359Z
LAST-MODIFIED:20251116T155412Z
UID:2958-1762444800-1762455600@www.landfrauenverein-wathlingen.de
SUMMARY:Weihnachtsworkshop
DESCRIPTION:Brigitte Vogel
URL:http://www.landfrauenverein-wathlingen.de/event/weihnachtsworkshop/
LOCATION:4G-Park\, Kantallee 8\, Wathlingen\, 29339\, Deutschland
CATEGORIES:Kreativkurse
END:VEVENT
BEGIN:VEVENT
DTSTART;TZID=Europe/Berlin:20251119T180000
DTEND;TZID=Europe/Berlin:20251119T200000
DTSTAMP:20260419T213155
CREATED:20251106T172358Z
LAST-MODIFIED:20251106T172358Z
UID:2940-1763575200-1763582400@www.landfrauenverein-wathlingen.de
SUMMARY:Ambulante Hospizarbeit
DESCRIPTION:Referentin Frau Inga Janßen \nGäste sind willkommen. \nDenken Sie/ denkt ihr daran\, euch bei den Ortvertreterinnen anzumelden.
URL:http://www.landfrauenverein-wathlingen.de/event/ambulante-hospizarbeit/
LOCATION:Jahnstuben Nienhagen\, Jahnring 13\, Nienhagen\, 29336\, Deutschland
END:VEVENT
BEGIN:VEVENT
DTSTART;TZID=Europe/Berlin:20251120T180000
DTEND;TZID=Europe/Berlin:20251120T220000
DTSTAMP:20260419T213155
CREATED:20251111T090810Z
LAST-MODIFIED:20251111T090810Z
UID:2946-1763661600-1763676000@www.landfrauenverein-wathlingen.de
SUMMARY:Kino-Abend
DESCRIPTION:Am 20.11. findet unser Filmabend um 18.00 Uhr im Kino des 4G statt. Wie immer mit einem kleinen Essen vorweg. Kosten: 11 €. Es sind noch Plätze frei. Anmeldungen bitte bei Renate Schult\, TEL. : 05144 92482  oder Klaudia Piliptschuk\, TEL. : 05144 8358 Wir freuen uns auf LandFrauen und Gäste.
URL:http://www.landfrauenverein-wathlingen.de/event/kino-abend-2/
LOCATION:4G-Park\, Kantallee 8\, Wathlingen\, 29339\, Deutschland
END:VEVENT
BEGIN:VEVENT
DTSTART;TZID=Europe/Berlin:20251120T180000
DTEND;TZID=Europe/Berlin:20251120T220000
DTSTAMP:20260419T213155
CREATED:20251116T163436Z
LAST-MODIFIED:20251116T163436Z
UID:2987-1763661600-1763676000@www.landfrauenverein-wathlingen.de
SUMMARY:Landfrauen-Kino
DESCRIPTION:
URL:http://www.landfrauenverein-wathlingen.de/event/landfrauen-kino/
LOCATION:4G-Park\, Kantallee 8\, Wathlingen\, 29339\, Deutschland
END:VEVENT
BEGIN:VEVENT
DTSTART;TZID=Europe/Berlin:20251127T150000
DTEND;TZID=Europe/Berlin:20251127T180000
DTSTAMP:20260419T213155
CREATED:20251116T164045Z
LAST-MODIFIED:20251116T164045Z
UID:3000-1764255600-1764266400@www.landfrauenverein-wathlingen.de
SUMMARY:Spiele - Nachmittag
DESCRIPTION:
URL:http://www.landfrauenverein-wathlingen.de/event/spiele-nachmittag-10/
LOCATION:4G-Park\, Kantallee 8\, Wathlingen\, 29339\, Deutschland
CATEGORIES:Spiele
END:VEVENT
BEGIN:VEVENT
DTSTART;VALUE=DATE:20251128
DTEND;VALUE=DATE:20251129
DTSTAMP:20260419T213155
CREATED:20250517T083403Z
LAST-MODIFIED:20251106T172024Z
UID:2832-1764288000-1764374399@www.landfrauenverein-wathlingen.de
SUMMARY:Weihnachtliches Münster
DESCRIPTION:Stadtführung der besonderen Art : Tatort und Wilsberg (anschließend Freizeit zum Besuch der 5 verschiedenen Weihnachtsmärkte / 50\,- Euro) \nAbfahrtszeiten für die Weihnachtsfahrt nach Münster am 28.11. \nWathlingen\, Rathaus           7.25 Uhr \nWathlingen\, Rossmann       7.30 Uhr \nPapenhorst\, Bushaltest.     7.35 Uhr \nNienhagen\, Herzogin-A.     7.40 Uhr \nNienhagen\, Klosterhof        7.45 Uhr \nIn Münster – erst Krimiführung in 2 Gruppen\, dann Freizeit. \nAbfahrt in Münster             17.00 Uhr
URL:http://www.landfrauenverein-wathlingen.de/event/weihnachtliches-muenster/
LOCATION:Münster\, Münster
CATEGORIES:Fahrten
END:VEVENT
END:VCALENDAR