BEGIN:VCALENDAR
VERSION:2.0
PRODID:-//Landfrauenverein Wathlingen - ECPv6.15.17.1//NONSGML v1.0//EN
CALSCALE:GREGORIAN
METHOD:PUBLISH
X-WR-CALNAME:Landfrauenverein Wathlingen
X-ORIGINAL-URL:http://www.landfrauenverein-wathlingen.de
X-WR-CALDESC:Veranstaltungen für Landfrauenverein Wathlingen
REFRESH-INTERVAL;VALUE=DURATION:PT1H
X-Robots-Tag:noindex
X-PUBLISHED-TTL:PT1H
BEGIN:VTIMEZONE
TZID:Europe/Berlin
BEGIN:DAYLIGHT
TZOFFSETFROM:+0100
TZOFFSETTO:+0200
TZNAME:CEST
DTSTART:20250330T010000
END:DAYLIGHT
BEGIN:STANDARD
TZOFFSETFROM:+0200
TZOFFSETTO:+0100
TZNAME:CET
DTSTART:20251026T010000
END:STANDARD
BEGIN:DAYLIGHT
TZOFFSETFROM:+0100
TZOFFSETTO:+0200
TZNAME:CEST
DTSTART:20260329T010000
END:DAYLIGHT
BEGIN:STANDARD
TZOFFSETFROM:+0200
TZOFFSETTO:+0100
TZNAME:CET
DTSTART:20261025T010000
END:STANDARD
BEGIN:DAYLIGHT
TZOFFSETFROM:+0100
TZOFFSETTO:+0200
TZNAME:CEST
DTSTART:20270328T010000
END:DAYLIGHT
BEGIN:STANDARD
TZOFFSETFROM:+0200
TZOFFSETTO:+0100
TZNAME:CET
DTSTART:20271031T010000
END:STANDARD
END:VTIMEZONE
BEGIN:VEVENT
DTSTART;TZID=Europe/Berlin:20260211T160000
DTEND;TZID=Europe/Berlin:20260211T190000
DTSTAMP:20260419T161205
CREATED:20251116T163215Z
LAST-MODIFIED:20251116T163215Z
UID:2985-1770825600-1770836400@www.landfrauenverein-wathlingen.de
SUMMARY:Kreativ-Gruppe
DESCRIPTION:
URL:http://www.landfrauenverein-wathlingen.de/event/kreativ-gruppe-16/
LOCATION:4G-Park\, Kantallee 8\, Wathlingen\, 29339\, Deutschland
CATEGORIES:Kreativkurse
END:VEVENT
BEGIN:VEVENT
DTSTART;TZID=Europe/Berlin:20260212T180000
DTEND;TZID=Europe/Berlin:20260212T210000
DTSTAMP:20260419T161205
CREATED:20251116T162729Z
LAST-MODIFIED:20251116T162729Z
UID:2975-1770919200-1770930000@www.landfrauenverein-wathlingen.de
SUMMARY:Gartenfreundinnen
DESCRIPTION:
URL:http://www.landfrauenverein-wathlingen.de/event/gartenfreundinnen-11/
LOCATION:4G-Park\, Kantallee 8\, Wathlingen\, 29339\, Deutschland
END:VEVENT
BEGIN:VEVENT
DTSTART;TZID=Europe/Berlin:20260218T180000
DTEND;TZID=Europe/Berlin:20260218T200000
DTSTAMP:20260419T161205
CREATED:20251116T161239Z
LAST-MODIFIED:20251116T161306Z
UID:2964-1771437600-1771444800@www.landfrauenverein-wathlingen.de
SUMMARY:Gesunder Darm
DESCRIPTION:Simone von Schroeders\, von Lebensglück
URL:http://www.landfrauenverein-wathlingen.de/event/gesunder-darm/
LOCATION:Jahnstuben Nienhagen\, Jahnring 13\, Nienhagen\, 29336\, Deutschland
CATEGORIES:Veranstaltungen
END:VEVENT
BEGIN:VEVENT
DTSTART;TZID=Europe/Berlin:20260219T180000
DTEND;TZID=Europe/Berlin:20260219T220000
DTSTAMP:20260419T161205
CREATED:20251116T163721Z
LAST-MODIFIED:20251116T163721Z
UID:2993-1771524000-1771538400@www.landfrauenverein-wathlingen.de
SUMMARY:Landfrauen-Kino
DESCRIPTION:
URL:http://www.landfrauenverein-wathlingen.de/event/landfrauen-kino-4/
LOCATION:4G-Park\, Kantallee 8\, Wathlingen\, 29339\, Deutschland
END:VEVENT
BEGIN:VEVENT
DTSTART;TZID=Europe/Berlin:20260226T150000
DTEND;TZID=Europe/Berlin:20260226T180000
DTSTAMP:20260419T161205
CREATED:20251116T164331Z
LAST-MODIFIED:20251116T164331Z
UID:3006-1772118000-1772128800@www.landfrauenverein-wathlingen.de
SUMMARY:Spiele - Nachmittag
DESCRIPTION:
URL:http://www.landfrauenverein-wathlingen.de/event/spiele-nachmittag-13/
LOCATION:4G-Park\, Kantallee 8\, Wathlingen\, 29339\, Deutschland
CATEGORIES:Spiele
END:VEVENT
BEGIN:VEVENT
DTSTART;TZID=Europe/Berlin:20260228T140000
DTEND;TZID=Europe/Berlin:20260228T180000
DTSTAMP:20260419T161205
CREATED:20251116T155746Z
LAST-MODIFIED:20251116T155746Z
UID:2960-1772287200-1772301600@www.landfrauenverein-wathlingen.de
SUMMARY:Weideflechten mit Ille Cammann
DESCRIPTION:Anmeldungen bei Ille Cammann (0177-6251210)
URL:http://www.landfrauenverein-wathlingen.de/event/weideflechten-mit-ille-cammann-2/
CATEGORIES:Kreativkurse
END:VEVENT
END:VCALENDAR