BEGIN:VCALENDAR
VERSION:2.0
PRODID:-//Landfrauenverein Wathlingen - ECPv6.15.17.1//NONSGML v1.0//EN
CALSCALE:GREGORIAN
METHOD:PUBLISH
X-WR-CALNAME:Landfrauenverein Wathlingen
X-ORIGINAL-URL:http://www.landfrauenverein-wathlingen.de
X-WR-CALDESC:Veranstaltungen für Landfrauenverein Wathlingen
REFRESH-INTERVAL;VALUE=DURATION:PT1H
X-Robots-Tag:noindex
X-PUBLISHED-TTL:PT1H
BEGIN:VTIMEZONE
TZID:Europe/Berlin
BEGIN:DAYLIGHT
TZOFFSETFROM:+0100
TZOFFSETTO:+0200
TZNAME:CEST
DTSTART:20250330T010000
END:DAYLIGHT
BEGIN:STANDARD
TZOFFSETFROM:+0200
TZOFFSETTO:+0100
TZNAME:CET
DTSTART:20251026T010000
END:STANDARD
BEGIN:DAYLIGHT
TZOFFSETFROM:+0100
TZOFFSETTO:+0200
TZNAME:CEST
DTSTART:20260329T010000
END:DAYLIGHT
BEGIN:STANDARD
TZOFFSETFROM:+0200
TZOFFSETTO:+0100
TZNAME:CET
DTSTART:20261025T010000
END:STANDARD
BEGIN:DAYLIGHT
TZOFFSETFROM:+0100
TZOFFSETTO:+0200
TZNAME:CEST
DTSTART:20270328T010000
END:DAYLIGHT
BEGIN:STANDARD
TZOFFSETFROM:+0200
TZOFFSETTO:+0100
TZNAME:CET
DTSTART:20271031T010000
END:STANDARD
END:VTIMEZONE
BEGIN:VEVENT
DTSTART;TZID=Europe/Berlin:20260312T180000
DTEND;TZID=Europe/Berlin:20260312T210000
DTSTAMP:20260419T144736
CREATED:20251116T162824Z
LAST-MODIFIED:20251116T162824Z
UID:2977-1773338400-1773349200@www.landfrauenverein-wathlingen.de
SUMMARY:Gartenfreundinnen
DESCRIPTION:
URL:http://www.landfrauenverein-wathlingen.de/event/gartenfreundinnen-12/
LOCATION:4G-Park\, Kantallee 8\, Wathlingen\, 29339\, Deutschland
END:VEVENT
BEGIN:VEVENT
DTSTART;TZID=Europe/Berlin:20260318T150000
DTEND;TZID=Europe/Berlin:20260318T180000
DTSTAMP:20260419T144736
CREATED:20251116T161450Z
LAST-MODIFIED:20251116T161450Z
UID:2966-1773846000-1773856800@www.landfrauenverein-wathlingen.de
SUMMARY:Waldbaden
DESCRIPTION:Nicole Nessenhöhner
URL:http://www.landfrauenverein-wathlingen.de/event/waldbaden/
LOCATION:4G-Park\, Kantallee 8\, Wathlingen\, 29339\, Deutschland
END:VEVENT
BEGIN:VEVENT
DTSTART;TZID=Europe/Berlin:20260319T180000
DTEND;TZID=Europe/Berlin:20260319T220000
DTSTAMP:20260419T144736
CREATED:20251116T163814Z
LAST-MODIFIED:20251116T163814Z
UID:2995-1773943200-1773957600@www.landfrauenverein-wathlingen.de
SUMMARY:Landfrauen-Kino
DESCRIPTION:
URL:http://www.landfrauenverein-wathlingen.de/event/landfrauen-kino-5/
LOCATION:4G-Park\, Kantallee 8\, Wathlingen\, 29339\, Deutschland
END:VEVENT
BEGIN:VEVENT
DTSTART;TZID=Europe/Berlin:20260326T150000
DTEND;TZID=Europe/Berlin:20260326T180000
DTSTAMP:20260419T144736
CREATED:20251116T164416Z
LAST-MODIFIED:20251116T164416Z
UID:3008-1774537200-1774548000@www.landfrauenverein-wathlingen.de
SUMMARY:Spiele - Nachmittag
DESCRIPTION:
URL:http://www.landfrauenverein-wathlingen.de/event/spiele-nachmittag-14/
LOCATION:4G-Park\, Kantallee 8\, Wathlingen\, 29339\, Deutschland
CATEGORIES:Spiele
END:VEVENT
END:VCALENDAR